BEGIN:VCALENDAR
VERSION:2.0
PRODID:-//HDHCC - ECPv6.15.20//NONSGML v1.0//EN
CALSCALE:GREGORIAN
METHOD:PUBLISH
X-WR-CALNAME:HDHCC
X-ORIGINAL-URL:https://hdhcc.org
X-WR-CALDESC:Events for HDHCC
REFRESH-INTERVAL;VALUE=DURATION:PT1H
X-Robots-Tag:noindex
X-PUBLISHED-TTL:PT1H
BEGIN:VTIMEZONE
TZID:America/Los_Angeles
BEGIN:DAYLIGHT
TZOFFSETFROM:-0800
TZOFFSETTO:-0700
TZNAME:PDT
DTSTART:20250309T100000
END:DAYLIGHT
BEGIN:STANDARD
TZOFFSETFROM:-0700
TZOFFSETTO:-0800
TZNAME:PST
DTSTART:20251102T090000
END:STANDARD
BEGIN:DAYLIGHT
TZOFFSETFROM:-0800
TZOFFSETTO:-0700
TZNAME:PDT
DTSTART:20260308T100000
END:DAYLIGHT
BEGIN:STANDARD
TZOFFSETFROM:-0700
TZOFFSETTO:-0800
TZNAME:PST
DTSTART:20261101T090000
END:STANDARD
BEGIN:DAYLIGHT
TZOFFSETFROM:-0800
TZOFFSETTO:-0700
TZNAME:PDT
DTSTART:20270314T100000
END:DAYLIGHT
BEGIN:STANDARD
TZOFFSETFROM:-0700
TZOFFSETTO:-0800
TZNAME:PST
DTSTART:20271107T090000
END:STANDARD
END:VTIMEZONE
BEGIN:VEVENT
DTSTART;TZID=America/Los_Angeles:20260512T073000
DTEND;TZID=America/Los_Angeles:20260512T090000
DTSTAMP:20260422T075546
CREATED:20260419T173038Z
LAST-MODIFIED:20260419T173614Z
UID:10000051-1778571000-1778576400@hdhcc.org
SUMMARY:May 2026 Cafecito Breakfast Meeting
DESCRIPTION:¡Bienvenido a Cafecito!\nEngage with fellow business professionals in a networking event that offers a blend of business resources\, member presentations\, and the warmth of Cafecito\, Pan Dulce\, and Breakfast. This gathering provides a unique opportunity to connect\, share insights\, and build valuable connections in a welcoming and nourishing environment. \nThe Details\n\nDate: Tuesday\, May 12\, 2026\nTime: 7:30 AM to 9:00 AM\nLocation: Courtyard by Marriott\, Hesperia.\nCost: Members $35 | Guests $40 (Note: Please add $5 if paying at the door)\n\nDelivering for San Bernardino County\nIn Delivering for San Bernardino County\, Josie Gonzales and her team will share how her “People First” approach is driving real results—from property tax relief to modernized public services. She’ll highlight strategies to support homeowners\, strengthen communities\, and improve access to essential county resources. \nJosie Gonzales is San Bernardino County’s Assessor-Recorder-County Clerk and former Fifth District Supervisor\, known for advancing housing\, economic opportunity\, and innovative\, people-centered government. \nDon’t wait to secure your spot: prices increase at the door!
URL:https://hdhcc.org/event/may-2026-cafecito-breakfast-meeting/
LOCATION:Courtyard by Marriott\, Hesperia\, 9619 Mariposa Road\, Hesperia\, CA\, 92345\, United States
ATTACH;FMTTYPE=image/avif:https://hdhcc.org/wp-content/uploads/2026/04/Cafecito-May-2026-Instagram.avif
ORGANIZER;CN="HDHCC":MAILTO:iris@ladulcevida.net
END:VEVENT
END:VCALENDAR