BEGIN:VCALENDAR
VERSION:2.0
PRODID:-//HDHCC - ECPv6.15.20//NONSGML v1.0//EN
CALSCALE:GREGORIAN
METHOD:PUBLISH
X-ORIGINAL-URL:https://hdhcc.org
X-WR-CALDESC:Events for HDHCC
REFRESH-INTERVAL;VALUE=DURATION:PT1H
X-Robots-Tag:noindex
X-PUBLISHED-TTL:PT1H
BEGIN:VTIMEZONE
TZID:America/Los_Angeles
BEGIN:DAYLIGHT
TZOFFSETFROM:-0800
TZOFFSETTO:-0700
TZNAME:PDT
DTSTART:20230312T100000
END:DAYLIGHT
BEGIN:STANDARD
TZOFFSETFROM:-0700
TZOFFSETTO:-0800
TZNAME:PST
DTSTART:20231105T090000
END:STANDARD
BEGIN:DAYLIGHT
TZOFFSETFROM:-0800
TZOFFSETTO:-0700
TZNAME:PDT
DTSTART:20240310T100000
END:DAYLIGHT
BEGIN:STANDARD
TZOFFSETFROM:-0700
TZOFFSETTO:-0800
TZNAME:PST
DTSTART:20241103T090000
END:STANDARD
BEGIN:DAYLIGHT
TZOFFSETFROM:-0800
TZOFFSETTO:-0700
TZNAME:PDT
DTSTART:20250309T100000
END:DAYLIGHT
BEGIN:STANDARD
TZOFFSETFROM:-0700
TZOFFSETTO:-0800
TZNAME:PST
DTSTART:20251102T090000
END:STANDARD
BEGIN:DAYLIGHT
TZOFFSETFROM:-0800
TZOFFSETTO:-0700
TZNAME:PDT
DTSTART:20260308T100000
END:DAYLIGHT
BEGIN:STANDARD
TZOFFSETFROM:-0700
TZOFFSETTO:-0800
TZNAME:PST
DTSTART:20261101T090000
END:STANDARD
END:VTIMEZONE
BEGIN:VEVENT
DTSTART;TZID=America/Los_Angeles:20250311T073000
DTEND;TZID=America/Los_Angeles:20250311T090000
DTSTAMP:20260422T115813
CREATED:20250206T221340Z
LAST-MODIFIED:20250211T215338Z
UID:10000022-1741678200-1741683600@hdhcc.org
SUMMARY:March 2025 Cafecito Breakfast Meeting
DESCRIPTION:Engage with fellow business professionals in a networking event that offers a blend of business resources\, member presentations\, and the warmth of Cafecito\, Pan Dulce\, and Breakfast. This gathering provides a unique opportunity to connect\, share insights\, and build valuable connections in a welcoming and nourishing environment. \n\nThis month our presentation is by Nicole P. Orr from Providence St. Mary Medical Center Foundation. Her presentation is titled\, Transforming Healthcare in the High Desert at Providence St. Mary Medical Center. \nSt. Mary Medical Center has grown to become a leader in medical excellence by continuing to plan and innovate for the future. Progressing from a small facility in 1956 to the comprehensive\, 213-bed hospital it is today\, St. Mary Medical Center’s dedication to serving the public has remained intrinsic to its core values of Compassion\, Dignity\, Justice\, Excellence and Integrity. At St. Mary\, community focus is approached on a person-by-person basis and is ever present in the staff’s total-care philosophy. In the spirit of healing\, St. Mary provides health care for each patient\, addressing and answering patient’s needs individually as valued members of the community.
URL:https://hdhcc.org/event/march-2025-cafecito-breakfast-meeting/
LOCATION:Courtyard by Marriott\, Hesperia\, 9619 Mariposa Road\, Hesperia\, CA\, 92345\, United States
ATTACH;FMTTYPE=image/png:https://hdhcc.org/wp-content/uploads/2025/02/Cafecito-March-2025-Instagram.png
ORGANIZER;CN="HDHCC":MAILTO:iris@ladulcevida.net
END:VEVENT
BEGIN:VEVENT
DTSTART;TZID=America/Los_Angeles:20250211T073000
DTEND;TZID=America/Los_Angeles:20250211T090000
DTSTAMP:20260422T115813
CREATED:20250129T193303Z
LAST-MODIFIED:20250204T220627Z
UID:10000023-1739259000-1739264400@hdhcc.org
SUMMARY:February 2025 Cafecito Breakfast Meeting
DESCRIPTION:Engage with fellow business professionals in a networking event that offers a blend of business resources\, member presentations\, and the warmth of Cafecito\, Pan Dulce\, and Breakfast. This gathering provides a unique opportunity to connect\, share insights\, and build valuable connections in a welcoming and nourishing environment. \n\nThis month our presentation is by Dr. Kenisha L. Williams\, Owner\, TransFormNation Training & Development\, LLC. \n\n\n\nDr. Kenisha L. Williams dedicated 22 years to public education. Her journey began in 2000 as a kindergarten teacher in Barstow Unified School District. Afterward\, she moved to Okinawa\, Japan\, teaching 1st grade with the Department of Defense Schools. Upon returning to the States\, Dr. Kenisha taught 4th and 5th grades before advancing to Assistant Principal and eventually serving as Principal at the same school for 13 years. In her final educational role\, she acted as Principal on Assignment as the Self-Leadership\, Diversity\, Equity\, and Inclusion (S.D.E.I.) Leader for her district.\nDr. Kenisha deeply believes in serving students\, staff\, and the community. She authored the children’s book series Better Together\, which promotes self-discovery\, peer appreciation\, and teamwork. \nRetiring from education in 2022\, Dr. Kenisha heads her company\, TransFormNation Training & Development\, LLC. She travels nationwide\, speaking\, training\, and coaching on effective leadership using a process of self-discovery that allows leaders to lean into their most authentic selves and other topics. Her academic achievements include multiple degrees: a bachelor’s in Speech Communications (1999)\, a master’s in Education (2002)\, a second bachelor’s in Ministry (2007\, Valedictorian)\, a Doctorate in Organizational Leadership (2014)\, and a second Doctorate in Ministry (2020\, 4.0 GPA). \nIn 2020\, Dr. Kenisha played a pivotal role in revitalizing the Leadership course at the Greater High Desert Chamber of Commerce amid the pandemic\, continuing her involvement every year since. She joined the Chamber’s Board of Directors in 2022. \nAs a member of Dr. John Maxwell’s International coaching team of over 51\,000 coaches in 165 countries\, she has shared stages with Dr. Maxwell and received the Leadership Torch to carry forward his legacy. Dr. Kenisha also serves on the teaching team as a Peer Teaching Partner and has facilitated Transformational Values Roundtables in Papua New Guinea. \nRecognized for her inspirational leadership\, she received spirit awards from Victor Elementary School District and the Dr. John C. Maxwell Culture DNA Award. Notably\, Dr. Kenisha was the Commencement Speaker at Victor Valley College in 2023\, addressing thousands. \nDr. Kenisha’s life passion is to inspire transformation through impartation\, illumination\, revelation\, and re-evaluation. She loves people and wants to leave joy everywhere she goes!
URL:https://hdhcc.org/event/february-2025-cafecito-breakfast-meeting/
LOCATION:Courtyard by Marriott\, Hesperia\, 9619 Mariposa Road\, Hesperia\, CA\, 92345\, United States
ATTACH;FMTTYPE=image/png:https://hdhcc.org/wp-content/uploads/2025/01/Cafecito-FEB-2025-Instagram.png
ORGANIZER;CN="HDHCC":MAILTO:iris@ladulcevida.net
END:VEVENT
BEGIN:VEVENT
DTSTART;TZID=America/Los_Angeles:20250114T073000
DTEND;TZID=America/Los_Angeles:20250114T090000
DTSTAMP:20260422T115813
CREATED:20241222T174917Z
LAST-MODIFIED:20241222T175657Z
UID:10000020-1736839800-1736845200@hdhcc.org
SUMMARY:January 2025 Cafecito Breakfast Meeting
DESCRIPTION:Engage with fellow business professionals in a networking event that offers a blend of business resources\, member presentations\, and the warmth of Cafecito\, Pan Dulce\, and Breakfast. This gathering provides a unique opportunity to connect\, share insights\, and build valuable connections in a welcoming and nourishing environment. \n\nThis month our presentation is from Sir Duplechan from “I Am Love”. \nFrom their website (https://iamloves.org/what-we-do/): \nWe are the result of a concerted effort of people who believe in the Power of Love \nIf you are sick and tired of all the evil\, hatred\, and wickedness and find yourself asking what can I do? Then join us. Race\, religion\, gender\, lifestyle\, or opinions have no significance here. If you need help\, we are here. If you would like to help\, we are here.
URL:https://hdhcc.org/event/january-2025-cafecito-breakfast-meeting/
LOCATION:Courtyard by Marriott\, Hesperia\, 9619 Mariposa Road\, Hesperia\, CA\, 92345\, United States
ATTACH;FMTTYPE=image/webp:https://hdhcc.org/wp-content/uploads/2024/12/Cafecito-JAN-2025-Instagram-e1734890415534.webp
ORGANIZER;CN="HDHCC":MAILTO:iris@ladulcevida.net
END:VEVENT
BEGIN:VEVENT
DTSTART;TZID=America/Los_Angeles:20250109T110000
DTEND;TZID=America/Los_Angeles:20250109T140000
DTSTAMP:20260422T115813
CREATED:20241028T213356Z
LAST-MODIFIED:20250107T012834Z
UID:10000017-1736420400-1736431200@hdhcc.org
SUMMARY:Boss Institute: Blueprint for Success 2025
DESCRIPTION:Learn proven strategies\nWalk away with a personalized plan\nMake 2025 your best year yet!\n\nJoin us for this transformative session where we will help you design a clear\, actionable plan for success in 2025. Learn proven strategies\, gain valuable insights\, and create a personalized blueprint that will guide you toward reaching your goals\, both personally and professionally. Don’t miss out on this opportunity to start the new year strong and make 2025 your best year yet!
URL:https://hdhcc.org/event/boss-institute-blueprint-for-success-2025/
LOCATION:Victorville City Hall\, 14343 Civic Drive\, Victorville\, CA\, 92392\, United States
ATTACH;FMTTYPE=image/png:https://hdhcc.org/wp-content/uploads/2024/10/Jan-25-BI-Facebook-V-3.png
ORGANIZER;CN="HDHCC":MAILTO:iris@ladulcevida.net
END:VEVENT
BEGIN:VEVENT
DTSTART;TZID=America/Los_Angeles:20241210T073000
DTEND;TZID=America/Los_Angeles:20241210T090000
DTSTAMP:20260422T115813
CREATED:20241201T204859Z
LAST-MODIFIED:20241201T204859Z
UID:10000019-1733815800-1733821200@hdhcc.org
SUMMARY:DECEMBER 2024 Cafecito Breakfast Meeting
DESCRIPTION:Engage with fellow business professionals in a networking event that offers a blend of business resources\, member presentations\, and the warmth of Cafecito\, Pan Dulce\, and Breakfast. This gathering provides a unique opportunity to connect\, share insights\, and build valuable connections in a welcoming and nourishing environment. \n\nThis month our presentation is from Carol Martinez of St. Martinez High Desert. Her presentation is titled: Beyond Medicine: The Heart of Hospice Services. \nSt. Martin High Desert is a new hospice organization founded in 2020 in the Mojave Desert. One of their major focuses is serving the community around them\, including many cities in towns in the High Desert\, including: Victorville\, Adelanto\, Apple Valley\, Hesperia\, and Barstow!  \nWith over ten years of collective experience\, their interdisciplinary team is here to serve you and your family during your end-of-life transitioning stage. their focus is on quality care and they’re committed to serving your needs. 
URL:https://hdhcc.org/event/december-2024-cafecito-breakfast-meeting-2/
LOCATION:Courtyard by Marriott\, Hesperia\, 9619 Mariposa Road\, Hesperia\, CA\, 92345\, United States
ATTACH;FMTTYPE=image/webp:https://hdhcc.org/wp-content/uploads/2024/12/Cafecito-DEC.-2024-Instagram.webp
ORGANIZER;CN="HDHCC":MAILTO:iris@ladulcevida.net
END:VEVENT
BEGIN:VEVENT
DTSTART;TZID=America/Los_Angeles:20241206T180000
DTEND;TZID=America/Los_Angeles:20241206T213000
DTSTAMP:20260422T115813
CREATED:20241028T212702Z
LAST-MODIFIED:20241203T155539Z
UID:10000016-1733508000-1733520600@hdhcc.org
SUMMARY:Estrella de la Noche - Awards Dinner & Dance
DESCRIPTION:Celebrating Excellence in Our Community! Join us at the High Desert Hispanic Chamber of Commerce\, 6th Annual\, Estrella de La Noche\, as we honor outstanding chamber members for their remarkable contributions to our community. Foster cohesive bonds\, and dance to the rhythm of Latin beats!\nTickets purchased at the door will incur an additional charge of $10.00.
URL:https://hdhcc.org/event/estrella-de-la-noche-awards-dinner-dance/
LOCATION:Courtyard by Marriott\, Hesperia\, 9619 Mariposa Road\, Hesperia\, CA\, 92345\, United States
ATTACH;FMTTYPE=image/webp:https://hdhcc.org/wp-content/uploads/2024/10/Estrella-2024-Facebook-.webp
ORGANIZER;CN="HDHCC":MAILTO:iris@ladulcevida.net
END:VEVENT
BEGIN:VEVENT
DTSTART;TZID=America/Los_Angeles:20241112T073000
DTEND;TZID=America/Los_Angeles:20241112T090000
DTSTAMP:20260422T115813
CREATED:20241028T214947Z
LAST-MODIFIED:20241028T221610Z
UID:10000018-1731396600-1731402000@hdhcc.org
SUMMARY:November 2024 Cafecito Breakfast Meeting
DESCRIPTION:Engage with fellow business professionals in a networking event that offers a blend of business resources\, member presentations\, and the warmth of Cafecito\, Pan Dulce\, and Breakfast. This gathering provides a unique opportunity to connect\, share insights\, and build valuable connections in a welcoming and nourishing environment. \n\nThis month our presentation is from Sam Thatte from Mango Weblab. His presentation is titled: The Perfect Website Layout-Hint: It’s a Billboard\, not a Harry Potter novel! \nHere is some information from Sam about the presentation. \nAre you tired of your website underperforming? A well-designed website can be the difference between a successful business and a struggling one. In our presentation\, The Perfect Website Layout\, we’ll show you how to create a website that: \n\nCaptivates your audience with a visually appealing design\nGuides visitors effortlessly with intuitive navigation\nDelivers valuable content that resonates with your target market\nConverts visitors into customers with clear calls to action\nBoosts your online presence and drives organic traffic\n\nDon’t miss this opportunity to learn how to create a website that works for you.
URL:https://hdhcc.org/event/november-2024-cafecito-breakfast-meeting/
LOCATION:Courtyard by Marriott\, Hesperia\, 9619 Mariposa Road\, Hesperia\, CA\, 92345\, United States
ATTACH;FMTTYPE=image/webp:https://hdhcc.org/wp-content/uploads/2024/10/Cafecito-Nov.-2024-Facebook.webp
ORGANIZER;CN="HDHCC":MAILTO:iris@ladulcevida.net
END:VEVENT
BEGIN:VEVENT
DTSTART;TZID=America/Los_Angeles:20241008T073000
DTEND;TZID=America/Los_Angeles:20241008T090000
DTSTAMP:20260422T115813
CREATED:20240925T120652Z
LAST-MODIFIED:20241001T085215Z
UID:10000014-1728372600-1728378000@hdhcc.org
SUMMARY:October 2024 Cafecito Breakfast Meeting
DESCRIPTION:Engage with fellow business professionals in a networking event that offers a blend of business resources\, member presentations\, and the warmth of Cafecito\, Pan Dulce\, and Breakfast. This gathering provides a unique opportunity to connect\, share insights\, and build valuable connections in a welcoming and nourishing environment. \nThis month\, join Priya Kalyan-Masih aka Dr. Priya\, a physician\, Doula and founder of Love Your Best Life LLC presents\, “What is a Doula?” at Cafecito. Dr. Priya uses her unique experiences and background to bridge the gap between the clinic and hospital settings. Through her medical expertise gained in time spent in Puerto Rico and Mexico\, she offers culturally competent care along with bilingual support to families through their prenatal\, birthing\, postpartum and pregnancy loss journeys. She lives with her husband and dog in Apple Valley. She enjoys traveling\, spa days and connecting with others.
URL:https://hdhcc.org/event/october-2024-cafecito-breakfast-meeting/
LOCATION:Courtyard by Marriott\, Hesperia\, 9619 Mariposa Road\, Hesperia\, CA\, 92345\, United States
ATTACH;FMTTYPE=image/webp:https://hdhcc.org/wp-content/uploads/2024/09/Dr-Priya-Facebook-Featured-Image.webp
ORGANIZER;CN="HDHCC":MAILTO:iris@ladulcevida.net
END:VEVENT
BEGIN:VEVENT
DTSTART;TZID=America/Los_Angeles:20241002T180000
DTEND;TZID=America/Los_Angeles:20241002T193000
DTSTAMP:20260422T115813
CREATED:20240925T153034Z
LAST-MODIFIED:20240925T154739Z
UID:10000015-1727892000-1727897400@hdhcc.org
SUMMARY:2nd Annual Expressions of La Cultura
DESCRIPTION:Join us for a special community event featuring Robert and Rudy Escalera\, sons of renowned Hispanic artist Rodolfo Escalera\, as they share their father’s passion for art and his legacy. \nEnjoy appetizers\, refreshments\, and raffles while watching an insightful trailer\, produced by U.S. Bank\, that highlights the challenges faced by youth with Spanish-speaking parents. \nAttendees will also have the chance to hear excerpts from books by Latino authors\, members of the High Desert Chapter of the California Writers Club\, and the High Desert Hispanic Chamber of Commerce. Free Event! Sponsored by U.S. Bank.
URL:https://hdhcc.org/event/2nd-annual-expressions-of-la-cultura/
LOCATION:Hesperia Library\, 9650 Seventh Avenue\, Hesperia\, CA\, 92345\, United States
ATTACH;FMTTYPE=image/webp:https://hdhcc.org/wp-content/uploads/2024/09/La-Cultura-Facebook-Featured-Image.webp
ORGANIZER;CN="HDHCC":MAILTO:iris@ladulcevida.net
END:VEVENT
BEGIN:VEVENT
DTSTART;TZID=America/Los_Angeles:20240910T073000
DTEND;TZID=America/Los_Angeles:20240910T090000
DTSTAMP:20260422T115813
CREATED:20240830T134303Z
LAST-MODIFIED:20240830T134303Z
UID:10000013-1725953400-1725958800@hdhcc.org
SUMMARY:September 2024 Cafecito Breakfast Meeting
DESCRIPTION:Engage with fellow business professionals in a networking event that offers a blend of business resources\, member presentations\, and the warmth of Cafecito\, Pan Dulce\, and Breakfast. This gathering provides a unique opportunity to connect\, share insights\, and build valuable connections in a welcoming and nourishing environment.
URL:https://hdhcc.org/event/september-2024-cafecito-breakfast-meeting/
LOCATION:Courtyard by Marriott\, Hesperia\, 9619 Mariposa Road\, Hesperia\, CA\, 92345\, United States
ATTACH;FMTTYPE=image/webp:https://hdhcc.org/wp-content/uploads/2024/05/Cafecito-generic-Ad-Square.webp
ORGANIZER;CN="HDHCC":MAILTO:iris@ladulcevida.net
END:VEVENT
BEGIN:VEVENT
DTSTART;TZID=America/Los_Angeles:20240813T073000
DTEND;TZID=America/Los_Angeles:20240813T090000
DTSTAMP:20260422T115813
CREATED:20240725T093715Z
LAST-MODIFIED:20240813T032630Z
UID:10000009-1723534200-1723539600@hdhcc.org
SUMMARY:August 2024 Cafecito Breakfast Meeting
DESCRIPTION:Engage with fellow business professionals in a networking event that offers a blend of business resources\, member presentations\, and the warmth of Cafecito\, Pan Dulce\, and Breakfast. This gathering provides a unique opportunity to connect\, share insights\, and build valuable connections in a welcoming and nourishing environment.
URL:https://hdhcc.org/event/august-2024-cafecito-breakfast-meeting/
LOCATION:Courtyard by Marriott\, Hesperia\, 9619 Mariposa Road\, Hesperia\, CA\, 92345\, United States
ATTACH;FMTTYPE=image/webp:https://hdhcc.org/wp-content/uploads/2024/07/Cafecito-Aug.-2024-Ad-1200-x-630-px-V-2.webp
ORGANIZER;CN="HDHCC":MAILTO:iris@ladulcevida.net
END:VEVENT
BEGIN:VEVENT
DTSTART;TZID=America/Los_Angeles:20240709T073000
DTEND;TZID=America/Los_Angeles:20240709T090000
DTSTAMP:20260422T115813
CREATED:20240612T202419Z
LAST-MODIFIED:20240612T202419Z
UID:10000008-1720510200-1720515600@hdhcc.org
SUMMARY:July 2024 Cafecito Breakfast Meeting
DESCRIPTION:Engage with fellow business professionals in a networking event that offers a blend of business resources\, member presentations\, and the warmth of Cafecito\, Pan Dulce\, and Breakfast. This gathering provides a unique opportunity to connect\, share insights\, and build valuable connections in a welcoming and nourishing environment.
URL:https://hdhcc.org/event/july-2024-cafecito-breakfast-meeting/
LOCATION:Courtyard by Marriott\, Hesperia\, 9619 Mariposa Road\, Hesperia\, CA\, 92345\, United States
ATTACH;FMTTYPE=image/webp:https://hdhcc.org/wp-content/uploads/2024/05/Cafecito-generic-Ad-Square.webp
ORGANIZER;CN="HDHCC":MAILTO:iris@ladulcevida.net
END:VEVENT
END:VCALENDAR